BEGIN:VCALENDAR
VERSION:2.0
PRODID:-//Squarespace Inc/Squarespace 6//v6//EN
BEGIN:VEVENT
UID:5e154e2040c89a03542bfa40@squarespace.com
DTSTAMP:20200126T230807Z
DTSTART:20200207T220000Z
DTEND:20200208T020000Z
SUMMARY:Teddy Bears Picnic
GEO:-37.046797;174.863501
LOCATION:Keith Park\, Weymouth\, Auckland\, New Zealand
END:VEVENT
END:VCALENDAR
