BEGIN:VCALENDAR
VERSION:2.0
PRODID:-//Squarespace Inc/Squarespace 6//v6//EN
BEGIN:VEVENT
UID:5eb5dc1f30b0d35aca1c9027@squarespace.com
DTSTAMP:20200512T215419Z
DTSTART:20201113T200000Z
DTEND:20201115T030000Z
SUMMARY:NZ Chocolate &amp\; Coffee Show
GEO:-36.842298;174.767679
LOCATION:The Cloud\, 89 Quay Street\, Auckland\, New Zealand
END:VEVENT
END:VCALENDAR
