BEGIN:VCALENDAR
VERSION:2.0
PRODID:-//Squarespace Inc/Squarespace 6//v6//EN
BEGIN:VEVENT
UID:5e25efa66fef6f177e7cebfb@squarespace.com
DTSTAMP:20201018T060339Z
DTSTART:20200229T043000Z
DTEND:20200229T053000Z
SUMMARY:Auckland Rainbow Parade
END:VEVENT
END:VCALENDAR
